BEGIN:VCALENDAR
VERSION:2.0
PRODID:-//Squarespace Inc/Squarespace 6//v6//EN
BEGIN:VEVENT
UID:5e3fb45fea5b4947235486d3@squarespace.com
DTSTAMP:20200219T080321Z
DTSTART:20200208T033000Z
DTEND:20200311T053000Z
SUMMARY:ILLUMINATE by Warren Pickering
GEO:42.407618;-71.062197
LOCATION:FLeurieu Arthouse\, 202 Main Road\, McLaren Vale\, Australia
END:VEVENT
END:VCALENDAR
