BEGIN:VCALENDAR
VERSION:2.0
PRODID:-//Squarespace Inc/Squarespace 6//v6//EN
BEGIN:VEVENT
UID:5d733fe199adf71af5ad41d0@squarespace.com
DTSTAMP:20200209T072654Z
DTSTART:20200222T083000Z
DTEND:20200222T110000Z
SUMMARY:A Evening with The Scottish Medium Alice Terry
END:VEVENT
END:VCALENDAR
