BEGIN:VCALENDAR
VERSION:2.0
PRODID:-//Squarespace Inc/Squarespace 6//v6//EN
BEGIN:VEVENT
UID:5c0757776d2a73d06246130f@squarespace.com
DTSTAMP:20190218T004824Z
DTSTART:20181205T050000Z
DTEND:20190227T053000Z
SUMMARY:A Small Art Factory Family Exhibition
GEO:-35.212402;138.536477
LOCATION:Fleurieu Arthouse\, Hardys Tintara 202 Main Road\, McLaren Vale So
 uth Australia 5169\, Australia
END:VEVENT
END:VCALENDAR
