BEGIN:VCALENDAR
VERSION:2.0
PRODID:-//Squarespace Inc/Squarespace 6//v6//EN
BEGIN:VEVENT
UID:5d46b65ec51d9300011cb4ed@squarespace.com
DTSTAMP:20190804T104515Z
DTSTART:20190817T133000Z
DTEND:20190818T063000Z
SUMMARY:ART LOVE SALA MARKET
GEO:43.868087;-79.31271
LOCATION:FLeurieu Arthouse\, 202 Main Road\, McLaren Vale\, Australia
END:VEVENT
END:VCALENDAR
