BEGIN:VCALENDAR
VERSION:2.0
PRODID:-//Squarespace Inc/Squarespace 6//v6//EN
BEGIN:VEVENT
UID:5f84374f26670027941a84af@squarespace.com
DTSTAMP:20201021T014655Z
DTSTART:20201018T033000Z
DTEND:20201122T053000Z
SUMMARY:BAILE DEL CUERVO - DANCE OF THE RAVEN by David Xiberras
GEO:-35.212547;138.536543
LOCATION:Fleurieu Arthouse\, 202 Main Road\, McLaren Vale\, South Australia
 \, 5171\, Australia
END:VEVENT
END:VCALENDAR
