BEGIN:VCALENDAR
VERSION:2.0
PRODID:-//Squarespace Inc/Squarespace 6//v6//EN
BEGIN:VEVENT
UID:5f4f6be3ca38d70f01f6a0a4@squarespace.com
DTSTAMP:20200902T102401Z
DTSTART:20200913T043000Z
DTEND:20201011T053000Z
SUMMARY:Banal Marie by Colin Rivers - Shimmer Festival of Photography
GEO:-35.213781;138.53675
LOCATION:FLeurieu Arthouse\, 202 Main Road\, McLaren Vale\, Australia
END:VEVENT
END:VCALENDAR
