BEGIN:VCALENDAR
VERSION:2.0
PRODID:-//Squarespace Inc/Squarespace 6//v6//EN
BEGIN:VEVENT
UID:5c6a0120f4e1fcbaed87cffe@squarespace.com
DTSTAMP:20190218T051233Z
DTSTART:20190303T033000Z
DTEND:20190403T053000Z
SUMMARY:Bare Bones - Sacred Seeds
END:VEVENT
END:VCALENDAR
