BEGIN:VCALENDAR
VERSION:2.0
PRODID:-//Squarespace Inc/Squarespace 6//v6//EN
BEGIN:VEVENT
UID:5dc132a3ea8a4c4b5e0ac335@squarespace.com
DTSTAMP:20191105T085937Z
DTSTART:20191109T033000Z
DTEND:20191211T053000Z
SUMMARY:BETWEEN EARTH and SKY
GEO:-35.212547;138.536543
LOCATION:FLeurieu Arthouse\, 202 Main Road\, McLaren Vale\, Australia
END:VEVENT
END:VCALENDAR
