BEGIN:VCALENDAR
VERSION:2.0
PRODID:-//Squarespace Inc/Squarespace 6//v6//EN
BEGIN:VEVENT
UID:5b695cbc758d46cbe67c09af@squarespace.com
DTSTAMP:20180807T094945Z
DTSTART:20180818T003000Z
DTEND:20180818T063000Z
SUMMARY:CERAMIC LOVE MARKET
GEO:-35.212402;138.536477
LOCATION:Fleurieu Arthouse\, Hardys Tintara\, 202 Main Road\, McLaren Vale\
 , South Australia 5171\, Australia
END:VEVENT
END:VCALENDAR
