BEGIN:VCALENDAR
VERSION:2.0
PRODID:-//Squarespace Inc/Squarespace 6//v6//EN
BEGIN:VEVENT
UID:5d2ee2165b592c00017d72bc@squarespace.com
DTSTAMP:20190717T085545Z
DTSTART:20190804T043000Z
DTEND:20190826T063000Z
SUMMARY:Coast Imaginings by John Freeman
END:VEVENT
END:VCALENDAR
