BEGIN:VCALENDAR
VERSION:2.0
PRODID:-//Squarespace Inc/Squarespace 6//v6//EN
BEGIN:VEVENT
UID:5e13fa1291a90d62537ebfa2@squarespace.com
DTSTAMP:20200107T033616Z
DTSTART:20191215T033000Z
DTEND:20191216T043000Z
SUMMARY:Collection of Works by Tony Jeffrey
END:VEVENT
END:VCALENDAR
