BEGIN:VCALENDAR
VERSION:2.0
PRODID:-//Squarespace Inc/Squarespace 6//v6//EN
BEGIN:VEVENT
UID:5b3707ac70a6ad2e8a9c4af0@squarespace.com
DTSTAMP:20180630T052410Z
DTSTART:20180729T043000Z
DTEND:20180908T063000Z
SUMMARY:COMMON GROUND
GEO:-35.213925;138.535925
LOCATION:Fleurieu Arthouse\, 202 Main Road\, McLaren Vale\, SA\, 5171\, Aus
 tralia
END:VEVENT
END:VCALENDAR
