BEGIN:VCALENDAR
VERSION:2.0
PRODID:-//Squarespace Inc/Squarespace 6//v6//EN
BEGIN:VEVENT
UID:5d22de6213a1670001df91f6@squarespace.com
DTSTAMP:20190717T001725Z
DTSTART:20190831T043000Z
DTEND:20190929T063000Z
SUMMARY:DUALITY by Brooke Walker
END:VEVENT
END:VCALENDAR
