BEGIN:VCALENDAR
VERSION:2.0
PRODID:-//Squarespace Inc/Squarespace 6//v6//EN
BEGIN:VEVENT
UID:5f06b9ecbd6cfa7c6b993e2d@squarespace.com
DTSTAMP:20200709T065605Z
DTSTART:20200731T083000Z
DTEND:20200906T063000Z
SUMMARY:Ebb &amp\; Flow [Collapse and Adaptation]
GEO:-35.21391;138.536474
LOCATION:Fleurieu Arthouse\, Hardys Tintara\, 202 Main Road\, McLaren Vale\
 , Australia
END:VEVENT
END:VCALENDAR
