BEGIN:VCALENDAR
VERSION:2.0
PRODID:-//Squarespace Inc/Squarespace 6//v6//EN
BEGIN:VEVENT
UID:5f06a6e96683b83fe15ff867@squarespace.com
DTSTAMP:20200814T035027Z
DTSTART:20200731T083000Z
DTEND:20200830T063000Z
SUMMARY:Empowered by Louise Russell
GEO:-35.21391;138.536474
LOCATION:Fleurieu Arthouse\, Hardys Tintara\, 202 Main Road\, McLaren Vale\
 , Australia
END:VEVENT
END:VCALENDAR
