BEGIN:VCALENDAR
VERSION:2.0
PRODID:-//Squarespace Inc/Squarespace 6//v6//EN
BEGIN:VEVENT
UID:5bb2a4c315fcc0c30577bcfb@squarespace.com
DTSTAMP:20181001T225441Z
DTSTART:20181019T023000Z
DTEND:20181019T053000Z
SUMMARY:Faces and Food of the Fleurieu Book Launch
END:VEVENT
END:VCALENDAR
