BEGIN:VCALENDAR
VERSION:2.0
PRODID:-//Squarespace Inc/Squarespace 6//v6//EN
BEGIN:VEVENT
UID:5ce6289724a694a4180ece28@squarespace.com
DTSTAMP:20190717T085140Z
DTSTART:20190804T043000Z
DTEND:20190826T063000Z
SUMMARY:Fierce/Fragile [Nature]
END:VEVENT
END:VCALENDAR
