BEGIN:VCALENDAR
VERSION:2.0
PRODID:-//Squarespace Inc/Squarespace 6//v6//EN
BEGIN:VEVENT
UID:60211991fb454231c75576f8@squarespace.com
DTSTAMP:20210208T111809Z
DTSTART:20210216T020000Z
DTEND:20210216T040000Z
SUMMARY:Guided Painting Workshop with Sonja Maclean
GEO:-35.213956;138.535967
LOCATION:Fleurieu Arthouse\, 202 Main Road\, McLaren Vale\, SA\, 5171\, Aus
 tralia
END:VEVENT
END:VCALENDAR
