BEGIN:VCALENDAR
VERSION:2.0
PRODID:-//Squarespace Inc/Squarespace 6//v6//EN
BEGIN:VEVENT
UID:5e4cdeba9c8f9174c28a7a5b@squarespace.com
DTSTAMP:20200219T093910Z
DTSTART:20200315T033000Z
DTEND:20200401T053000Z
SUMMARY:Healing Arts Bushfire Appeal Exhibition
GEO:-35.212547;138.536543
LOCATION:FLeurieu Arthouse\, 202 Main Road\, McLaren Vale\, Australia
END:VEVENT
END:VCALENDAR
