BEGIN:VCALENDAR
VERSION:2.0
PRODID:-//Squarespace Inc/Squarespace 6//v6//EN
BEGIN:VEVENT
UID:5b4443781ae6cf14d3597d47@squarespace.com
DTSTAMP:20180922T042954Z
DTSTART:20181021T033000Z
DTEND:20181125T053000Z
SUMMARY:It's Quiet Here
GEO:-35.212402;138.536477
LOCATION:Fleurieu Arthouse\, Hardys Tintara 202 Main Road\, McLaren Vale\, 
 Australia
END:VEVENT
END:VCALENDAR
