BEGIN:VCALENDAR
VERSION:2.0
PRODID:-//Squarespace Inc/Squarespace 6//v6//EN
BEGIN:VEVENT
UID:5c94d02a71c10b1e887a8687@squarespace.com
DTSTAMP:20190708T061022Z
DTSTART:20190831T043000Z
DTEND:20190929T063000Z
SUMMARY:REFLECTIONS IN LIGHT
END:VEVENT
END:VCALENDAR
