BEGIN:VCALENDAR
VERSION:2.0
PRODID:-//Squarespace Inc/Squarespace 6//v6//EN
BEGIN:VEVENT
UID:5c94c9a29b747a740b3a9318@squarespace.com
DTSTAMP:20190523T034110Z
DTSTART:20190602T043000Z
DTEND:20190626T063000Z
SUMMARY:Hidden Paradise - Marek Herburt
GEO:-35.212402;138.536477
LOCATION:Fleurieu Arthouse\, Hardys Tintara\, 202 Main Road\, McLaren Vale\
 , Australia
END:VEVENT
END:VCALENDAR
