BEGIN:VCALENDAR
VERSION:2.0
PRODID:-//Squarespace Inc/Squarespace 6//v6//EN
BEGIN:VEVENT
UID:5bbc8ce5b208fcd6b5260631@squarespace.com
DTSTAMP:20190724T085111Z
DTSTART:20190810T013000Z
DTEND:20190811T063000Z
SUMMARY:Open Studios Meet your Local Artists
GEO:-35.213956;138.535967
LOCATION:Fleurieu Arthouse\, 202 Main Road\, McLaren Vale\, SA\, 5171\, Aus
 tralia
END:VEVENT
END:VCALENDAR
