BEGIN:VCALENDAR
VERSION:2.0
PRODID:-//Squarespace Inc/Squarespace 6//v6//EN
BEGIN:VEVENT
UID:5c6a2f52085229f28774f50c@squarespace.com
DTSTAMP:20190404T010946Z
DTSTART:20190407T043000Z
DTEND:20190429T063000Z
SUMMARY:New Paintings - Alan Todd   
GEO:-35.212547;138.536543
LOCATION:Fleurieu Arthouse\, 202 Main Road\, McLaren Vale\, Australia
END:VEVENT
END:VCALENDAR
