BEGIN:VCALENDAR
VERSION:2.0
PRODID:-//Squarespace Inc/Squarespace 6//v6//EN
BEGIN:VEVENT
UID:5c94c240a4222f585d72b6c2@squarespace.com
DTSTAMP:20190322T120708Z
DTSTART:20190505T043000Z
DTEND:20190526T222959Z
SUMMARY:People &amp\; Places - Simone Lyon
GEO:-35.212402;138.536477
LOCATION:Fleurieu Arthouse\, Hardys Tintara\, Main Road McLaren Vale\, Sout
 h Australia\, Australia
END:VEVENT
END:VCALENDAR
