BEGIN:VCALENDAR
VERSION:2.0
PRODID:-//Squarespace Inc/Squarespace 6//v6//EN
BEGIN:VEVENT
UID:5d2e5d007079f00001d1b5cd@squarespace.com
DTSTAMP:20190716T233150Z
DTSTART:20190804T043000Z
DTEND:20190826T063000Z
SUMMARY:PULP.it by Amanda Chalmer
GEO:43.868087;-79.31271
LOCATION:FLeurieu Arthouse\, 202 Main Road\, McLaren Vale\, Australia
END:VEVENT
END:VCALENDAR
