BEGIN:VCALENDAR
VERSION:2.0
PRODID:-//Squarespace Inc/Squarespace 6//v6//EN
BEGIN:VEVENT
UID:5b3ca3c38a922db5a531ed7c@squarespace.com
DTSTAMP:20181002T032814Z
DTSTART:20180916T013000Z
DTEND:20181014T053000Z
SUMMARY:Shimmer Photographic Biennale 2018 presents STILL POINT with Robert 
 McFarlane
END:VEVENT
END:VCALENDAR
