BEGIN:VCALENDAR
VERSION:2.0
PRODID:-//Squarespace Inc/Squarespace 6//v6//EN
BEGIN:VEVENT
UID:5c94cd6b652dea60a0ffc8b8@squarespace.com
DTSTAMP:20190322T120554Z
DTSTART:20190706T053000Z
DTEND:20190729T063000Z
SUMMARY:She is Me by Libby Tozer 
GEO:-35.212402;138.536477
LOCATION:Fleurieu Arthouse\, HArdys Tintara\, 202 Main Road\, McLaren Vale\
 , South Australia
END:VEVENT
END:VCALENDAR
