BEGIN:VCALENDAR
VERSION:2.0
PRODID:-//Squarespace Inc/Squarespace 6//v6//EN
BEGIN:VEVENT
UID:5d89a2bb96f52922ff1af082@squarespace.com
DTSTAMP:20190924T050729Z
DTSTART:20191006T033000Z
DTEND:20191030T053000Z
SUMMARY:TARNANTHI 2019 Our Country: Many Languages 
GEO:-35.212547;138.536543
LOCATION:Fleurieu Arthouse\, 202 Main Road\, McLaren Vale\, Australia
END:VEVENT
END:VCALENDAR
