BEGIN:VCALENDAR
VERSION:2.0
PRODID:-//Squarespace Inc/Squarespace 6//v6//EN
BEGIN:VEVENT
UID:5e3fb5a6f875f52b567434b6@squarespace.com
DTSTAMP:20200219T070724Z
DTSTART:20200405T043000Z
DTEND:20200506T063000Z
SUMMARY: The Hidden Memory of Objects - The Artists Voice Group Show
GEO:-35.21391;138.536474
LOCATION:Fleurieu Arthouse\, Hardys Tintara 202 Main Road\, McLaren Vale\, 
 Australia
END:VEVENT
END:VCALENDAR
