BEGIN:VCALENDAR
VERSION:2.0
PRODID:-//Squarespace Inc/Squarespace 6//v6//EN
BEGIN:VEVENT
UID:5f06a530eb0f070802440ea0@squarespace.com
DTSTAMP:20200709T051535Z
DTSTART:20200731T083000Z
DTEND:20200906T063000Z
SUMMARY:The Inner Journey by John Freeman
GEO:-35.21391;138.536474
LOCATION:Fleurieu Arthouse\, Hardys Tintara\, 202 Main Road\, 5171\, Austra
 lia
END:VEVENT
END:VCALENDAR
