BEGIN:VCALENDAR
VERSION:2.0
PRODID:-//Squarespace Inc/Squarespace 6//v6//EN
BEGIN:VEVENT
UID:5e13fcb9553f9b060f235c5b@squarespace.com
DTSTAMP:20200112T020839Z
DTSTART:20200112T033000Z
DTEND:20200205T053000Z
SUMMARY:Turner Workshops - From the Cracks &amp\; Beyond the Surface
GEO:-35.212547;138.536543
LOCATION:Fleurieu Arthouse\, 202 Main Road\, McLaren Vale\, Australia
END:VEVENT
END:VCALENDAR
