BEGIN:VCALENDAR
VERSION:2.0
PRODID:-//Squarespace Inc/Squarespace 6//v6//EN
BEGIN:VEVENT
UID:5ce28b90ad65980001b06585@squarespace.com
DTSTAMP:20191001T020710Z
DTSTART:20191025T083000Z
DTEND:20191025T110000Z
SUMMARY:ART &amp\; WINE NIGHT guided painting of wild Australian Natives
GEO:43.868087;-79.31271
LOCATION:FLeurieu Arthouse\, 202 Main Road\, McLaren Vale\, Australia
END:VEVENT
END:VCALENDAR
