BEGIN:VCALENDAR
VERSION:2.0
PRODID:-//Squarespace Inc/Squarespace 6//v6//EN
BEGIN:VEVENT
UID:5c40317cb91c912d9af1321a@squarespace.com
DTSTAMP:20190321T084151Z
DTSTART:20190117T080000Z
DTEND:20190228T090000Z
SUMMARY:ART PARTY WITH EILEEN LUBIANA
END:VEVENT
END:VCALENDAR
