BEGIN:VCALENDAR
VERSION:2.0
PRODID:-//Squarespace Inc/Squarespace 6//v6//EN
BEGIN:VEVENT
UID:5b3c31db6d2a7346fab86744@squarespace.com
DTSTAMP:20180808T052706Z
DTSTART:20180902T043000Z
DTEND:20180902T073000Z
SUMMARY:SEPTEMBER 2nd ART PARTY
GEO:-35.213925;138.535925
LOCATION:Fleurieu Arthouse\, 202 Main Road\, McLaren Vale\, Australia 5171
END:VEVENT
END:VCALENDAR
