BEGIN:VCALENDAR
VERSION:2.0
PRODID:-//Squarespace Inc/Squarespace 6//v6//EN
BEGIN:VEVENT
UID:5cf20818e904d30001be10a1@squarespace.com
DTSTAMP:20190804T105024Z
DTSTART:20190830T093000Z
DTEND:20190830T113000Z
SUMMARY: SOLD OUT&gt\;&gt\;&gt\;&gt\;ART &amp\; WINE NIGHT ACRYLIC POUR wit
 h GEN &amp\; TONIC
END:VEVENT
END:VCALENDAR
