BEGIN:VCALENDAR
VERSION:2.0
PRODID:-//Squarespace Inc/Squarespace 6//v6//EN
BEGIN:VEVENT
UID:5d56983e3df6e9000117671d@squarespace.com
DTSTAMP:20200117T052031Z
DTSTART:20200207T083000Z
DTEND:20200207T103000Z
SUMMARY:Paint &amp\; Sip - ACRYLIC POUR - Friday FEB 7
END:VEVENT
END:VCALENDAR
