BEGIN:VCALENDAR
VERSION:2.0
PRODID:-//Squarespace Inc/Squarespace 6//v6//EN
BEGIN:VEVENT
UID:5ce28c890f06d300010aef7f@squarespace.com
DTSTAMP:20190822T033559Z
DTSTART:20190913T093000Z
DTEND:20190913T113000Z
SUMMARY:SOLD OUT&gt\;&gt\;&gt\;&gt\;ART &amp\; WINE NIGHT SEP 13
END:VEVENT
END:VCALENDAR
