BEGIN:VCALENDAR
VERSION:2.0
PRODID:-//Squarespace Inc/Squarespace 6//v6//EN
BEGIN:VEVENT
UID:5cbabb5e9b747a2b42f2b443@squarespace.com
DTSTAMP:20190520T111625Z
DTSTART:20190524T093000Z
DTEND:20190524T120000Z
SUMMARY:ART &amp\; WINE NIGHT
END:VEVENT
END:VCALENDAR
