BEGIN:VCALENDAR
VERSION:2.0
PRODID:-//Squarespace Inc/Squarespace 6//v6//EN
BEGIN:VEVENT
UID:5bed55704fa51a83926b549f@squarespace.com
DTSTAMP:20181121T221122Z
DTSTART:20181207T013000Z
DTEND:20181207T043000Z
SUMMARY:BASIC JEWELLERY METAL/SILVERSMITHING TECHNIQUES 
GEO:-35.212402;138.536477
LOCATION:Fleurieu Arthouse\, Hardys Tintara 202 Main Road\, McLaren Vale\, 
 South Australia\, Australia
END:VEVENT
END:VCALENDAR
