BEGIN:VCALENDAR
VERSION:2.0
PRODID:-//Squarespace Inc/Squarespace 6//v6//EN
BEGIN:VEVENT
UID:5c40355621c67c270d5b9be8@squarespace.com
DTSTAMP:20190131T034722Z
DTSTART:20190202T233000Z
DTEND:20190203T033000Z
SUMMARY:Botanical Eco Printing Workshop
END:VEVENT
END:VCALENDAR
