BEGIN:VCALENDAR
VERSION:2.0
PRODID:-//Squarespace Inc/Squarespace 6//v6//EN
BEGIN:VEVENT
UID:5c402eab7ba7fc1e4302ff5e@squarespace.com
DTSTAMP:20190131T035738Z
DTSTART:20190225T080000Z
DTEND:20190325T103000Z
SUMMARY:Charcoal for Beginners with Brooke Walker
END:VEVENT
END:VCALENDAR
