BEGIN:VCALENDAR
VERSION:2.0
PRODID:-//Squarespace Inc/Squarespace 6//v6//EN
BEGIN:VEVENT
UID:5d75a027e4ecd53b9f8133b2@squarespace.com
DTSTAMP:20190909T004333Z
DTSTART:20190916T063000Z
DTEND:20190916T090000Z
SUMMARY: ARTISTIC KIDS: MONDAY &amp\; WEDNESDAYS
GEO:-35.212402;138.536477
LOCATION:Fleurieu Arthouse\, Hardys Tintara 202 Main Road\, McLaren Vale\, 
 South Australia\, Australia
END:VEVENT
END:VCALENDAR
