BEGIN:VCALENDAR
VERSION:2.0
PRODID:-//Squarespace Inc/Squarespace 6//v6//EN
BEGIN:VEVENT
UID:5a4a58b471c10bd7b34b4520@squarespace.com
DTSTAMP:20190909T004626Z
DTSTART:20190923T063000Z
DTEND:20190923T090000Z
SUMMARY:ARTISTIC KIDS: MONDAY &amp\; WEDNESDAYS
GEO:-35.212402;138.536477
LOCATION:Fleurieu Arthouse\, Hardys Tintara 202 Main Road\, McLaren Vale\, 
 South Australia\, Australia
END:VEVENT
END:VCALENDAR
