BEGIN:VCALENDAR
VERSION:2.0
PRODID:-//Squarespace Inc/Squarespace 6//v6//EN
BEGIN:VEVENT
UID:5b500a7a758d46506ecd1acc@squarespace.com
DTSTAMP:20180721T054512Z
DTSTART:20180810T003000Z
DTEND:20180810T033000Z
SUMMARY:CLAIM YOUR CREATIVE POWER  with Michele McCrea
GEO:-35.212402;138.536477
LOCATION:Fleurieu Arthouse\, Hardys Tintara 202 Main Road\, McLaren Vale\, 
 Australia
END:VEVENT
END:VCALENDAR
