BEGIN:VCALENDAR
VERSION:2.0
PRODID:-//Squarespace Inc/Squarespace 6//v6//EN
BEGIN:VEVENT
UID:5b500c1570a6ad94de3cd13b@squarespace.com
DTSTAMP:20180720T094435Z
DTSTART:20180817T003000Z
DTEND:20180817T033000Z
SUMMARY:CLAIM YOUR CREATIVE POWER with Michele McCrea
GEO:-35.212402;138.536477
LOCATION:Fleurieu Arthouse\, Hardys Tintara 202 Main Road\, McLaren Vale\, 
 Australia
END:VEVENT
END:VCALENDAR
