BEGIN:VCALENDAR
VERSION:2.0
PRODID:-//Squarespace Inc/Squarespace 6//v6//EN
BEGIN:VEVENT
UID:5b51a727575d1f1420efc621@squarespace.com
DTSTAMP:20180720T094531Z
DTSTART:20180824T003000Z
DTEND:20180824T033000Z
SUMMARY:CLAIM YOUR CREATIVE POWER with Michele McCrea
END:VEVENT
END:VCALENDAR
