BEGIN:VCALENDAR
VERSION:2.0
PRODID:-//Squarespace Inc/Squarespace 6//v6//EN
BEGIN:VEVENT
UID:5cfde87d3a67ec0001e0b955@squarespace.com
DTSTAMP:20190610T060507Z
DTSTART:20190623T033000Z
DTEND:20190623T063000Z
SUMMARY:Clay Sculpture for Children
END:VEVENT
END:VCALENDAR
