BEGIN:VCALENDAR
VERSION:2.0
PRODID:-//Squarespace Inc/Squarespace 6//v6//EN
BEGIN:VEVENT
UID:5d46b7d082811800015534ec@squarespace.com
DTSTAMP:20190816T114851Z
DTSTART:20190826T083000Z
DTEND:20190926T103000Z
SUMMARY:Design and Make your own Metal Wall Sculpture (Monday night)
END:VEVENT
END:VCALENDAR
