BEGIN:VCALENDAR
VERSION:2.0
PRODID:-//Squarespace Inc/Squarespace 6//v6//EN
BEGIN:VEVENT
UID:5d46b0f66069a60001f3678f@squarespace.com
DTSTAMP:20190804T104744Z
DTSTART:20190824T003000Z
DTEND:20190824T013000Z
SUMMARY:Design and Make your own Metal Wall Sculpture (Saturday morning)
END:VEVENT
END:VCALENDAR
